BEGIN:VCALENDAR
VERSION:2.0
PRODID:odie.esu10.org/workshops
METHOD:PUBLISH
BEGIN:VTIMEZONE
TZID:America/Denver
X-LIC-LOCATION:America/Denver
BEGIN:DAYLIGHT
TZOFFSETFROM:-0700
TZOFFSETTO:-0600
TZNAME:MDT
DTSTART:19700308T020000
RRULE:FREQ=YEARLY;BYMONTH=3;BYDAY=2SU
END:DAYLIGHT
BEGIN:STANDARD
TZOFFSETFROM:-0600
TZOFFSETTO:-0700
TZNAME:MST
DTSTART:19701101T020000
RRULE:FREQ=YEARLY;BYMONTH=11;BYDAY=1SU
END:STANDARD
END:VTIMEZONE
BEGIN:VTIMEZONE
TZID:America/Chicago
X-LIC-LOCATION:America/Chicago
BEGIN:DAYLIGHT
TZOFFSETFROM:-0600
TZOFFSETTO:-0500
TZNAME:CDT
DTSTART:19700308T020000
RRULE:FREQ=YEARLY;BYMONTH=3;BYDAY=2SU
END:DAYLIGHT
BEGIN:STANDARD
TZOFFSETFROM:-0500
TZOFFSETTO:-0600
TZNAME:CST
DTSTART:19701101T020000
RRULE:FREQ=YEARLY;BYMONTH=11;BYDAY=1SU
END:STANDARD
END:VTIMEZONE
BEGIN:VEVENT
ORGANIZER:MAILTO:jhopkins@esu1.org
UID:TZID=America/Chicago:20260421T073900-46892@esu10.org
DTSTAMP;TZID=America/Chicago:20260421T073900
DTSTART;TZID=America/Chicago:20120111T090000
DTEND;TZID=America/Chicago:20120111T153000
SUMMARY:2011-12 NOC Special Activities
DESCRIPTION:This is an activity based meeting calling for participants to
  assist in moving forward NOC issues in the state.
 -https://odie.esu10.org/workshops/sectiondetails.aspx?sectionid=479
LOCATION:ESU 10
PRIORITY:1
URL:https://odie.esu10.org/workshops/SectionDetails.aspx?SectionID=479
STATUS:CONFIRMED
SEQUENCE:0
CONTACT:Jim Hopkins\, jhopkins@esu1.org
END:VEVENT
END:VCALENDAR