BEGIN:VCALENDAR
VERSION:2.0
PRODID:odie.esu10.org/workshops
METHOD:PUBLISH
BEGIN:VTIMEZONE
TZID:America/Denver
X-LIC-LOCATION:America/Denver
BEGIN:DAYLIGHT
TZOFFSETFROM:-0700
TZOFFSETTO:-0600
TZNAME:MDT
DTSTART:19700308T020000
RRULE:FREQ=YEARLY;BYMONTH=3;BYDAY=2SU
END:DAYLIGHT
BEGIN:STANDARD
TZOFFSETFROM:-0600
TZOFFSETTO:-0700
TZNAME:MST
DTSTART:19701101T020000
RRULE:FREQ=YEARLY;BYMONTH=11;BYDAY=1SU
END:STANDARD
END:VTIMEZONE
BEGIN:VTIMEZONE
TZID:America/Chicago
X-LIC-LOCATION:America/Chicago
BEGIN:DAYLIGHT
TZOFFSETFROM:-0600
TZOFFSETTO:-0500
TZNAME:CDT
DTSTART:19700308T020000
RRULE:FREQ=YEARLY;BYMONTH=3;BYDAY=2SU
END:DAYLIGHT
BEGIN:STANDARD
TZOFFSETFROM:-0500
TZOFFSETTO:-0600
TZNAME:CST
DTSTART:19701101T020000
RRULE:FREQ=YEARLY;BYMONTH=11;BYDAY=1SU
END:STANDARD
END:VTIMEZONE
BEGIN:VEVENT
ORGANIZER:MAILTO:mreed@esucc.org
UID:TZID=America/Chicago:20260421T220400-27543@esu10.org
DTSTAMP;TZID=America/Chicago:20260421T220400
DTSTART;TZID=America/Chicago:20270318T113000
DTEND;TZID=America/Chicago:20270318T124500
SUMMARY:ESUCC Educational Resources Committee Meetings 2026-2027
DESCRIPTION:2026-2027 ESUCC Educational Resources Committee Meetings
 -https://odie.esu10.org/workshops/sectiondetails.aspx?sectionid=1982
LOCATION:ESU #10 - Kearney + Zoom
PRIORITY:1
URL:https://odie.esu10.org/workshops/SectionDetails.aspx?SectionID=1982
STATUS:CONFIRMED
SEQUENCE:0
CONTACT:Mindy Reed\, mreed@esucc.org
END:VEVENT
END:VCALENDAR